BEGIN:VCALENDAR
VERSION:2.0
PRODID:-//East Fortune Aeromodellers - ECPv6.0.6.2//NONSGML v1.0//EN
CALSCALE:GREGORIAN
METHOD:PUBLISH
X-ORIGINAL-URL:https://www.ef-aero.org.uk/efanewweb
X-WR-CALDESC:Events for East Fortune Aeromodellers
REFRESH-INTERVAL;VALUE=DURATION:PT1H
X-Robots-Tag:noindex
X-PUBLISHED-TTL:PT1H
BEGIN:VTIMEZONE
TZID:Europe/London
BEGIN:DAYLIGHT
TZOFFSETFROM:+0000
TZOFFSETTO:+0100
TZNAME:BST
DTSTART:20240331T010000
END:DAYLIGHT
BEGIN:STANDARD
TZOFFSETFROM:+0100
TZOFFSETTO:+0000
TZNAME:GMT
DTSTART:20241027T010000
END:STANDARD
END:VTIMEZONE
BEGIN:VEVENT
DTSTART;VALUE=DATE:20240914
DTEND;VALUE=DATE:20240916
DTSTAMP:20260424T002129
CREATED:20240115T192420Z
LAST-MODIFIED:20240115T192420Z
UID:762-1726272000-1726444799@www.ef-aero.org.uk
SUMMARY:No-Fly Date
DESCRIPTION:East Fortune – Scottish Championship 15&16
URL:https://www.ef-aero.org.uk/efanewweb/calenda/no-fly-date-23/
LOCATION:East Fortune
ATTACH;FMTTYPE=image/webp:https://www.ef-aero.org.uk/efanewweb/wp-content/uploads/2023/01/nofly.webp
END:VEVENT
END:VCALENDAR