BEGIN:VCALENDAR
VERSION:2.0
PRODID:-//East Fortune Aeromodellers - ECPv6.0.6.2//NONSGML v1.0//EN
CALSCALE:GREGORIAN
METHOD:PUBLISH
X-WR-CALNAME:East Fortune Aeromodellers
X-ORIGINAL-URL:https://www.ef-aero.org.uk/efanewweb
X-WR-CALDESC:Events for East Fortune Aeromodellers
REFRESH-INTERVAL;VALUE=DURATION:PT1H
X-Robots-Tag:noindex
X-PUBLISHED-TTL:PT1H
BEGIN:VTIMEZONE
TZID:Europe/London
BEGIN:DAYLIGHT
TZOFFSETFROM:+0000
TZOFFSETTO:+0100
TZNAME:BST
DTSTART:20240331T010000
END:DAYLIGHT
BEGIN:STANDARD
TZOFFSETFROM:+0100
TZOFFSETTO:+0000
TZNAME:GMT
DTSTART:20241027T010000
END:STANDARD
END:VTIMEZONE
BEGIN:VEVENT
DTSTART;VALUE=DATE:20240713
DTEND;VALUE=DATE:20240715
DTSTAMP:20260424T073733
CREATED:20240115T192252Z
LAST-MODIFIED:20240115T192252Z
UID:758-1720828800-1721001599@www.ef-aero.org.uk
SUMMARY:No-Fly Date
DESCRIPTION:East Fortune – Tom Dickie (open & club points)
URL:https://www.ef-aero.org.uk/efanewweb/calenda/no-fly-date-21/
LOCATION:East Fortune
ATTACH;FMTTYPE=image/webp:https://www.ef-aero.org.uk/efanewweb/wp-content/uploads/2023/01/nofly.webp
END:VEVENT
END:VCALENDAR